BEGIN:VCALENDAR
PRODID:-//AT Content Types//AT Event//EN
VERSION:1.0
BEGIN:VEVENT
DTSTART:20060429T180000Z
DTEND:20060429T210000Z
DCREATED:20060320T070305Z
UID:ATEvent-3c732065acc89616684f9b9a8232f582
SEQUENCE:0
LAST-MODIFIED:20060821T140429Z
SUMMARY:Đêm nhạc tưởng nhớ Trịnh Công Sơn
DESCRIPTION:Kỉ niệm 5 năm ngày mất của cố nhạc sĩ Trị
 nh Công Sơn (29/04/2006\, London\, UK),
LOCATION:London\, UK
PRIORITY:3
TRANSP:0
END:VEVENT
END:VCALENDAR
